BEGIN:VCALENDAR
VERSION:2.0
PRODID:-//Keswick Island Progress Association - ECPv6.15.20//NONSGML v1.0//EN
CALSCALE:GREGORIAN
METHOD:PUBLISH
X-WR-CALNAME:Keswick Island Progress Association
X-ORIGINAL-URL:https://kipa.com.au
X-WR-CALDESC:Events for Keswick Island Progress Association
REFRESH-INTERVAL;VALUE=DURATION:PT1H
X-Robots-Tag:noindex
X-PUBLISHED-TTL:PT1H
BEGIN:VTIMEZONE
TZID:Australia/Brisbane
BEGIN:STANDARD
TZOFFSETFROM:+1000
TZOFFSETTO:+1000
TZNAME:AEST
DTSTART:20210101T000000
END:STANDARD
END:VTIMEZONE
BEGIN:VEVENT
DTSTART;TZID=Australia/Brisbane:20220323T190000
DTEND;TZID=Australia/Brisbane:20220323T210000
DTSTAMP:20260422T220331
CREATED:20220226T012313Z
LAST-MODIFIED:20251113T062844Z
UID:1310-1648062000-1648069200@kipa.com.au
SUMMARY:KIPA Committee Meeting
DESCRIPTION:We invite you join us for the AGM. On the Agenda will be the nomination and appointment of the KIPA Committee for the coming year.
URL:https://kipa.com.au/event/kipa-committee-meeting-3/
LOCATION:Craig & Karen’s House\, 12 Eagle View Place\, Keswick Island\, Qld\, 4740\, Australia
CATEGORIES:KIPA Management Committee Meeting
ATTACH;FMTTYPE=image/jpeg:https://kipa.com.au/wp-content/uploads/2025/11/Rectangle-8.jpg
END:VEVENT
END:VCALENDAR