BEGIN:VCALENDAR
VERSION:2.0
PRODID:-//Keswick Island Progress Association - ECPv6.15.20//NONSGML v1.0//EN
CALSCALE:GREGORIAN
METHOD:PUBLISH
X-WR-CALNAME:Keswick Island Progress Association
X-ORIGINAL-URL:https://kipa.com.au
X-WR-CALDESC:Events for Keswick Island Progress Association
REFRESH-INTERVAL;VALUE=DURATION:PT1H
X-Robots-Tag:noindex
X-PUBLISHED-TTL:PT1H
BEGIN:VTIMEZONE
TZID:Australia/Brisbane
BEGIN:STANDARD
TZOFFSETFROM:+1000
TZOFFSETTO:+1000
TZNAME:AEST
DTSTART:20200101T000000
END:STANDARD
END:VTIMEZONE
BEGIN:VEVENT
DTSTART;TZID=Australia/Brisbane:20211130T110000
DTEND;TZID=Australia/Brisbane:20211130T130000
DTSTAMP:20260423T052940
CREATED:20211124T221522Z
LAST-MODIFIED:20211124T221721Z
UID:1249-1638270000-1638277200@kipa.com.au
SUMMARY:BBRA AGM
DESCRIPTION:The Basil Bay Residents Association Annual General Meeting is being held on Tuesday 30 November 2021 at 11.00 am. \nWhere: Ocean International Hotel\, 1 Bridge St \, East Mackay QLD 4740 \nPlease arrive by 10:45am for registration and follow all the normal Covid-safe practices (such as staying at home if you have any symptoms). \nWe’ll start promptly atÂ 11.00am on Tuesday 30 NovemberÂ so add a reminder to your calendar now! \nDial-In Details:\n \nCall one of the numbers below and follow the prompts. Participants have NOT been allocated ID numbers:\n+61 8 6119 3900\n+61 8 7150 1149\n+61 2 8015 6011\n+61 3 7018 2005\n+61 7 3185 3730 \nMeeting ID: 875 7950 3677\nPasscode: 296909 \nJOIN THE MEETING FROM YOUR COMPUTER OR LAPTOP\nThe AGM willÂ  hosted on Zoom here Â»\nIf you haven’t used Zoom before\, we recommendÂ downloading the app ahead of time. \nWe are keen for all members to participate in the meeting. For those who can’t attend and wish to appoint a proxy\, below are the links to the Motion Sheet\, the Voting Sheet\, Voting Rules and the Proxy Form (Form Individuals) and the Company Nomination form. Please complete the voting sheet\, the proxy form and return to the Secretary at this email. Where Lots are owned by an entity\, the Company Nomination form will also be required. \nDownload the Motion Sheet Â» \nDownload the Voting Sheet Â» \nDownload the Voting Rules Â» \nDownload the Proxy Form Â» \nIt is important that all members have the opportunity to contribute to the future direction of the BBRA. Please complete the relevant Proxy & Nomination Forms and your Voting Preferences.Â Sign and return to secretary@bbra.info no later than 10.00am Monday 29th November 2021.
URL:https://kipa.com.au/event/bbra-agm/
LOCATION:Ocean International Hotel\, 1 Bridge Road\, Mackay\, Qld\, 4740\, Australia
CATEGORIES:BBRA Meeting
END:VEVENT
END:VCALENDAR