BEGIN:VCALENDAR
VERSION:2.0
PRODID:-//Keswick Island Progress Association - ECPv6.15.20//NONSGML v1.0//EN
CALSCALE:GREGORIAN
METHOD:PUBLISH
X-ORIGINAL-URL:https://kipa.com.au
X-WR-CALDESC:Events for Keswick Island Progress Association
REFRESH-INTERVAL;VALUE=DURATION:PT1H
X-Robots-Tag:noindex
X-PUBLISHED-TTL:PT1H
BEGIN:VTIMEZONE
TZID:Australia/Brisbane
BEGIN:STANDARD
TZOFFSETFROM:+1000
TZOFFSETTO:+1000
TZNAME:AEST
DTSTART:20200101T000000
END:STANDARD
END:VTIMEZONE
BEGIN:VEVENT
DTSTART;TZID=Australia/Brisbane:20210929T160000
DTEND;TZID=Australia/Brisbane:20210929T180000
DTSTAMP:20260423T091703
CREATED:20210927T230825Z
LAST-MODIFIED:20210930T042352Z
UID:1193-1632931200-1632938400@kipa.com.au
SUMMARY:KIPA Committee Meeting
DESCRIPTION:With attendance of general members present on Keswick Island included.
URL:https://kipa.com.au/event/kipa-committee-meeting/
LOCATION:Craig & Karen’s House\, 12 Eagle View Place\, Keswick Island\, Qld\, 4740\, Australia
CATEGORIES:KIPA Management Committee Meeting,Special KIPA Residents Meeting
END:VEVENT
END:VCALENDAR