BEGIN:VCALENDAR
VERSION:2.0
PRODID:-//Keswick Island Progress Association - ECPv6.15.20//NONSGML v1.0//EN
CALSCALE:GREGORIAN
METHOD:PUBLISH
X-WR-CALNAME:Keswick Island Progress Association
X-ORIGINAL-URL:https://kipa.com.au
X-WR-CALDESC:Events for Keswick Island Progress Association
REFRESH-INTERVAL;VALUE=DURATION:PT1H
X-Robots-Tag:noindex
X-PUBLISHED-TTL:PT1H
BEGIN:VTIMEZONE
TZID:Australia/Brisbane
BEGIN:STANDARD
TZOFFSETFROM:+1000
TZOFFSETTO:+1000
TZNAME:AEST
DTSTART:20190101T000000
END:STANDARD
END:VTIMEZONE
BEGIN:VEVENT
DTSTART;TZID=Australia/Brisbane:20201102T173000
DTEND;TZID=Australia/Brisbane:20201102T183000
DTSTAMP:20260424T040623
CREATED:20201031T080016Z
LAST-MODIFIED:20201031T080625Z
UID:867-1604338200-1604341800@kipa.com.au
SUMMARY:KIPA General Meeting
DESCRIPTION:
URL:https://kipa.com.au/event/kipa-general-meeting-2/
LOCATION:PRD Mackay Boardroom\, 2 Peel Street\, Mackay\, Qld\, 4740\, Australia
CATEGORIES:KIPA Meeting,Meeting
END:VEVENT
END:VCALENDAR