BEGIN:VCALENDAR
VERSION:2.0
PRODID:-//Keswick Island Progress Association - ECPv6.15.20//NONSGML v1.0//EN
CALSCALE:GREGORIAN
METHOD:PUBLISH
X-WR-CALNAME:Keswick Island Progress Association
X-ORIGINAL-URL:https://kipa.com.au
X-WR-CALDESC:Events for Keswick Island Progress Association
REFRESH-INTERVAL;VALUE=DURATION:PT1H
X-Robots-Tag:noindex
X-PUBLISHED-TTL:PT1H
BEGIN:VTIMEZONE
TZID:Australia/Brisbane
BEGIN:STANDARD
TZOFFSETFROM:+1000
TZOFFSETTO:+1000
TZNAME:AEST
DTSTART:20180101T000000
END:STANDARD
END:VTIMEZONE
BEGIN:VEVENT
DTSTART;TZID=Australia/Brisbane:20190413T130000
DTEND;TZID=Australia/Brisbane:20190413T150000
DTSTAMP:20260425T235559
CREATED:20190303T000332Z
LAST-MODIFIED:20190411T000044Z
UID:510-1555160400-1555167600@kipa.com.au
SUMMARY:KIPA General Meeting
DESCRIPTION:Saturday 13th April at 1.00pm. Venue: Ripples Restaurant at Miners Lodge Motor Inn\, 60 Nebo Road\, West Mackay. Ph. 4951 1944 if you need directions. Parking is available in Lloyd Street next to the motel. Please comment if you will or won’t be coming\, thanks!
URL:https://kipa.com.au/event/kipa-general-meeting/
LOCATION:Qld
CATEGORIES:KIPA Meeting
END:VEVENT
END:VCALENDAR