BEGIN:VCALENDAR
VERSION:2.0
PRODID:-//Keswick Island Progress Association - ECPv6.15.20//NONSGML v1.0//EN
CALSCALE:GREGORIAN
METHOD:PUBLISH
X-ORIGINAL-URL:https://kipa.com.au
X-WR-CALDESC:Events for Keswick Island Progress Association
REFRESH-INTERVAL;VALUE=DURATION:PT1H
X-Robots-Tag:noindex
X-PUBLISHED-TTL:PT1H
BEGIN:VTIMEZONE
TZID:Australia/Brisbane
BEGIN:STANDARD
TZOFFSETFROM:+1000
TZOFFSETTO:+1000
TZNAME:AEST
DTSTART:20200101T000000
END:STANDARD
END:VTIMEZONE
BEGIN:VEVENT
DTSTART;TZID=Australia/Brisbane:20211220T000000
DTEND;TZID=Australia/Brisbane:20211220T000000
DTSTAMP:20260423T052947
CREATED:20210930T041830Z
LAST-MODIFIED:20210930T042244Z
UID:1204-1639958400-1639958400@kipa.com.au
SUMMARY:KIPA Christmas Party
DESCRIPTION:Time and venue to be advised closer to the date. (Depending on the weather\, either the Beach Hut or Keswick Kiosk). All welcome!
URL:https://kipa.com.au/event/kipa-christmas-party/
LOCATION:The Beach Hut\, Basil Bay\, Keswick Island\, Qld\, 4740\, Australia
CATEGORIES:Social Gathering
END:VEVENT
END:VCALENDAR